BEGIN:VCALENDAR
VERSION:2.0
PRODID:-//hacksw/handcal//NONSGML v1.0//EN
X-WR-CALNAME:ACC Events
CALSCALE:GREGORIAN
BEGIN:VEVENT
UID:uid20201010_01@accvic.com.au
LOCATION:
URL;VALUE=URI:https://accvic.com.au/events/state-conference-2020
DTSTAMP:20210223T002352
SUMMARY:STATE CONFERENCE 2020
DTSTART:20201010T140000
DTEND:20201010T160000
END:VEVENT
BEGIN:VEVENT
UID:uid20200505_01@accvic.com.au
LOCATION:31-61 McLeans Rd\, Bundoora VIC\, Australia
URL;VALUE=URI:https://accvic.com.au/events/accelerate-church-growth-intensive
DTSTAMP:20210223T002352
SUMMARY:ACCelerate Church Growth Intensive
DTSTART:20200505T100000
DTEND:20200506T160000
END:VEVENT
BEGIN:VEVENT
UID:uid20191120_01@accvic.com.au
LOCATION:Keilor City Church\, 80 Harrick Road\, Keilor Park VIC\, Australia
URL;VALUE=URI:https://accvic.com.au/events/safer-churches-workshop-presenter-training
DTSTAMP:20210223T002352
SUMMARY:Safer Churches Workshop Presenter Training
DTSTART:20191120T100000
DTEND:20191120T160000
END:VEVENT
BEGIN:VEVENT
UID:uid20190824_01@accvic.com.au
LOCATION:41 Lance Road\, Sunshine North VIC 3020\, Australia
URL;VALUE=URI:https://accvic.com.au/events/covenant-mens-conference-2019
DTSTAMP:20210223T002352
SUMMARY:COVENANT MEN’S CONFERENCE 2019
DTSTART:20190824T080000
DTEND:20190824T160000
END:VEVENT
BEGIN:VEVENT
UID:uid20191004_01@accvic.com.au
LOCATION:Merricks Lodge\, 3670 Frankston - Flinders Rd\, Merricks Victoria\, Australia
URL;VALUE=URI:https://accvic.com.au/events/emerging-leaders-2019
DTSTAMP:20210223T002352
SUMMARY:Emerging Leaders 2019
DTSTART:20191004T180000
DTEND:20191005T170000
END:VEVENT
BEGIN:VEVENT
UID:uid20190923_01@accvic.com.au
LOCATION:Planetshakers Church Melbourne City Campus\, City Road\, Southbank VIC\, Australia
URL;VALUE=URI:https://accvic.com.au/events/state-conference-2019-prophesy
DTSTAMP:20210223T002352
SUMMARY:State Conference 2019 – “PROPHESY”
DTSTART:20190923T190000
DTEND:20190925T220000
END:VEVENT
BEGIN:VEVENT
UID:uid20200501_01@accvic.com.au
LOCATION:
URL;VALUE=URI:https://accvic.com.au/events/pastors-intensive-training-2019
DTSTAMP:20210223T002352
SUMMARY:PASTORS INTENSIVE TRAINING 2020
DTSTART:20200501T093000
DTEND:20200502T160000
END:VEVENT
BEGIN:VEVENT
UID:uid20190517_01@accvic.com.au
LOCATION:41 Lance Road\, Sunshine North VIC\, Australia
URL;VALUE=URI:https://accvic.com.au/events/adore-conference-2019
DTSTAMP:20210223T002352
SUMMARY:ADORE CONFERENCE 2019
DTSTART:20190517T000000
DTEND:20190518T230000
END:VEVENT
BEGIN:VEVENT
UID:uid20190730_01@accvic.com.au
LOCATION:282 Phrabarami Rd\, Tambon Patong\, Phuket\, Thailand
URL;VALUE=URI:https://accvic.com.au/events/panasia-conference
DTSTAMP:20210223T002352
SUMMARY:PanAsia Conference
DTSTART:20190730T090000
DTEND:20190801T200000
END:VEVENT
BEGIN:VEVENT
UID:uid20190430_01@accvic.com.au
LOCATION:Gold Coast Convention and Exhibition Centre\, Gold Coast Highway\, Broadbeach QLD\, Australia
URL;VALUE=URI:https://accvic.com.au/events/your-kingdom-come-acc-national-conference
DTSTAMP:20210223T002352
SUMMARY:YOUR KINGDOM COME – ACC NATIONAL CONFERENCE
DTSTART:20190430T180000
DTEND:20190502T210000
END:VEVENT
BEGIN:VEVENT
UID:uid20181121_01@accvic.com.au
LOCATION:80 Harrick Rd\, Keilor Park VIC 3042\, Australia
URL;VALUE=URI:https://accvic.com.au/events/acc-local-church-awareness-workshop-training
DTSTAMP:20210223T002352
SUMMARY:ACC Local Church Awareness Workshop Training
DTSTART:20181121T100000
DTEND:20181121T160000
END:VEVENT
BEGIN:VEVENT
UID:uid20180811_01@accvic.com.au
LOCATION:41 Lance Road\, Sunshine North VIC\, Australia
URL;VALUE=URI:https://accvic.com.au/events/covenant-conference-2018
DTSTAMP:20210223T002352
SUMMARY:Covenant Conference 2018
DTSTART:20180811T083000
DTEND:20180811T160000
END:VEVENT
BEGIN:VEVENT
UID:uid20180518_01@accvic.com.au
LOCATION:Enjoy Church\, Lance Road\, Sunshine North VIC\, Australia
URL;VALUE=URI:https://accvic.com.au/events/adore-conference-2018
DTSTAMP:20210223T002352
SUMMARY:ADORE CONFERENCE 2018
DTSTART:20180518T160000
DTEND:20180519T160000
END:VEVENT
BEGIN:VEVENT
UID:uid20180924_01@accvic.com.au
LOCATION:Planetshakers Church Melbourne City Campus\, City Road\, Southbank VIC\, Australia
URL;VALUE=URI:https://accvic.com.au/events/acc-state-conference-2018
DTSTAMP:20210223T002352
SUMMARY:ACC STATE CONFERENCE 2018
DTSTART:20180924T190000
DTEND:20180926T210000
END:VEVENT
BEGIN:VEVENT
UID:uid20181005_01@accvic.com.au
LOCATION:Merricks Lodge\, Frankston - Flinders Road\, Merricks VIC\, Australia
URL;VALUE=URI:https://accvic.com.au/events/emerging-leaders-retreat
DTSTAMP:20210223T002352
SUMMARY:Emerging Leaders Retreat
DTSTART:20181005T090000
DTEND:20181006T160000
END:VEVENT
BEGIN:VEVENT
UID:uid20181031_01@accvic.com.au
LOCATION:Encompass Church\, McLeans Road\, Bundoora VIC\, Australia
URL;VALUE=URI:https://accvic.com.au/events/2018-grow-church-intensive-melbourne
DTSTAMP:20210223T002352
SUMMARY:2018 GROW Church Intensive Melbourne
DTSTART:20181031T100000
DTEND:20181101T160000
END:VEVENT
BEGIN:VEVENT
UID:uid20180428_01@accvic.com.au
LOCATION:157 Green Gully Road\, Keilor Downs VIC\, Australia
URL;VALUE=URI:https://accvic.com.au/events/acc-safe-churches-pastors-workshop
DTSTAMP:20210223T002352
SUMMARY:ACC Safe Churches Pastors Workshop
DTSTART:20180428T093000
DTEND:20180428T153000
END:VEVENT
BEGIN:VEVENT
UID:uid20180505_01@accvic.com.au
LOCATION:Encompass Church\, McLeans Road\, Bundoora VIC\, Australia
URL;VALUE=URI:https://accvic.com.au/events/pre-omc-intensive-2018
DTSTAMP:20210223T002352
SUMMARY:Pre-OMC Intensive 2018
DTSTART:20180505T090000
DTEND:20180505T163000
END:VEVENT
BEGIN:VEVENT
UID:uid20180505__02@accvic.com.au
LOCATION:Encompass Church\, McLeans Road\, Bundoora VIC\, Australia
URL;VALUE=URI:https://accvic.com.au/events/pmc-intensive-2018
DTSTAMP:20210223T002352
SUMMARY:PMC Intensive 2018
DTSTART:20180505T090000
DTEND:20180505T163000
END:VEVENT
BEGIN:VEVENT
UID:uid20180414_01@accvic.com.au
LOCATION:19 McDonalds Lane\, Mulgrave VIC\, Australia
URL;VALUE=URI:https://accvic.com.au/events/church-board-developmenttraining-day-city
DTSTAMP:20210223T002352
SUMMARY:Church Board Development/Training Day City
DTSTART:20180414T090000
DTEND:20180414T150000
END:VEVENT
BEGIN:VEVENT
UID:uid20170925_01@accvic.com.au
LOCATION:Planetshakers Church Melbourne City Campus\, City Road\, Southbank\, Victoria\, Australia
URL;VALUE=URI:https://accvic.com.au/events/state-conference-2017-generations
DTSTAMP:20210223T002352
SUMMARY:State Conference 2017 “GENERATIONS”
DTSTART:20170925T190000
DTEND:20170927T220000
END:VEVENT
BEGIN:VEVENT
UID:uid20170603_01@accvic.com.au
LOCATION:31-61 McLeans Road\, Bundoora\, Victoria\, Australia
URL;VALUE=URI:https://accvic.com.au/events/pmc-training-day-intensive-2017
DTSTAMP:20210223T002352
SUMMARY:PMC TRAINING DAY INTENSIVE 2017
DTSTART:20170603T090000
DTEND:20170603T163000
END:VEVENT
BEGIN:VEVENT
UID:uid20170401_01@accvic.com.au
LOCATION:
URL;VALUE=URI:https://accvic.com.au/events/church-board-training-day-2017
DTSTAMP:20210223T002352
SUMMARY:CHURCH BOARD TRAINING DAY 2017
DTSTART:20170401T000000
DTEND:20170531T000000
END:VEVENT
BEGIN:VEVENT
UID:uid20171114_01@accvic.com.au
LOCATION:31-61 McLeans Rd\, Bundoora\, Victoria\, Australia
URL;VALUE=URI:https://accvic.com.au/events/grow-leadership-intensive-melbourne-2017
DTSTAMP:20210223T002352
SUMMARY:GROW Leadership Intensive Melbourne 2017
DTSTART:20171114T100000
DTEND:20171115T160000
END:VEVENT
BEGIN:VEVENT
UID:uid20170216_01@accvic.com.au
LOCATION:
URL;VALUE=URI:https://accvic.com.au/events/safe-churches-awareness-workshops-2017
DTSTAMP:20210223T002352
SUMMARY:Safe Churches Awareness Workshops 2017
DTSTART:20170216T160500
DTEND:20171231T000000
END:VEVENT
BEGIN:VEVENT
UID:uid20170320_01@accvic.com.au
LOCATION:International Convention Centre Sydney (ICC Sydney)\, Darling Drive\, Sydney\, New South Wales\, Australia
URL;VALUE=URI:https://accvic.com.au/events/colour-conference-2017
DTSTAMP:20210223T002352
SUMMARY:Colour Conference 2017
DTSTART:20170320T000000
DTEND:20170320T230000
END:VEVENT
BEGIN:VEVENT
UID:uid20170502_01@accvic.com.au
LOCATION:2684-2690 Gold Coast Highway\, Broadbeach\, Queensland\, Australia
URL;VALUE=URI:https://accvic.com.au/events/acc-national-conference-2-4-may-2017
DTSTAMP:20210223T002352
SUMMARY:ACC NATIONAL CONFERENCE
DTSTART:20170502T180000
DTEND:20170504T200000
END:VEVENT
BEGIN:VEVENT
UID:uid20161105_01@accvic.com.au
LOCATION:320 Reynolds Rd\, Donvale\, Victoria\, Australia
URL;VALUE=URI:https://accvic.com.au/events/grow-intensive-training
DTSTAMP:20210223T002352
SUMMARY:GROW Intensive Training
DTSTART:20161105T090000
DTEND:20161105T160000
END:VEVENT
BEGIN:VEVENT
UID:uid20160514_01@accvic.com.au
LOCATION:Bendigo\, 35 Solomon Street\, East Bendigo\, VIC\, 3550\, Australia
URL;VALUE=URI:https://accvic.com.au/events/regional-church-board-training-day
DTSTAMP:20210223T002352
SUMMARY:REGIONAL CHURCH BOARD TRAINING DAY
DTSTART:20160514T090000
DTEND:20160514T150000
END:VEVENT
BEGIN:VEVENT
UID:uid20160331_01@accvic.com.au
LOCATION:
URL;VALUE=URI:https://accvic.com.au/events/safe-churches-awareness-workshops
DTSTAMP:20210223T002352
SUMMARY:SAFE CHURCHES AWARENESS WORKSHOPS
DTSTART:20160331T000000
DTEND:20161231T000000
END:VEVENT
BEGIN:VEVENT
UID:uid20160423_01@accvic.com.au
LOCATION:Planetshakers Church Melbourne City\, City Road\, Southbank\, Victoria\, Australia
URL;VALUE=URI:https://accvic.com.au/events/acc-young-leaders-bootcamp
DTSTAMP:20210223T002352
SUMMARY:ACC Young Leaders Bootcamp
DTSTART:20160423T000000
DTEND:20160423T000000
END:VEVENT
BEGIN:VEVENT
UID:uid20160312_01@accvic.com.au
LOCATION:19 McDonalds Lane\, Mulgrave\, VIC\, 3170\, Australia
URL;VALUE=URI:https://accvic.com.au/events/church-board-training-day
DTSTAMP:20210223T002352
SUMMARY:CHURCH BOARD TRAINING DAY
DTSTART:20160312T093000
DTEND:20160312T150000
END:VEVENT
BEGIN:VEVENT
UID:uid20160504_01@accvic.com.au
LOCATION:Faith Christian Church\, 307 Gladstone Road\, Dandenong North\, Victoria
URL;VALUE=URI:https://accvic.com.au/events/one-world-forum
DTSTAMP:20210223T002352
SUMMARY:One World Forum
DTSTART:20160504T000000
DTEND:20160505T000000
END:VEVENT
BEGIN:VEVENT
UID:uid20160517_01@accvic.com.au
LOCATION:Surf City Church\, 3046 Surfers Paradise Blvd\, Surfers Paradise QLD 4217
URL;VALUE=URI:https://accvic.com.au/events/youth-alive-national
DTSTAMP:20210223T002352
SUMMARY:Youth Alive National Summit
DTSTART:20160517T000000
DTEND:20160519T000000
END:VEVENT
BEGIN:VEVENT
UID:uid20160520_01@accvic.com.au
LOCATION:Enjoy Church\, Lance Road\, Sunshine North\, Victoria\, Australia
URL;VALUE=URI:https://accvic.com.au/events/adore-conference-2015
DTSTAMP:20210223T002352
SUMMARY:Adore Conference 2016
DTSTART:20160520T190000
DTEND:20160521T150000
END:VEVENT
BEGIN:VEVENT
UID:uid20160816_01@accvic.com.au
LOCATION:Surfcity Church 3046 Surfers Paradise Blvd\, Surfers Paradise QLD 4217\, Australia
URL;VALUE=URI:https://accvic.com.au/events/kidshaper
DTSTAMP:20210223T002352
SUMMARY:Kidshaper
DTSTART:20160816T000000
DTEND:20160818T000000
END:VEVENT
BEGIN:VEVENT
UID:uid20160906_01@accvic.com.au
LOCATION:601 Princes Highway\, Yallah
URL;VALUE=URI:https://accvic.com.au/events/community-conference
DTSTAMP:20210223T002352
SUMMARY:Community Conference
DTSTART:20160906T000000
DTEND:20160907T000000
END:VEVENT
BEGIN:VEVENT
UID:uid20160908_01@accvic.com.au
LOCATION:1-3 Moore Road\, Kewarra Beach\, Queensland\, Australia
URL;VALUE=URI:https://accvic.com.au/events/acc-national-indigenous-conference
DTSTAMP:20210223T002352
SUMMARY:ACC National Indigenous Conference
DTSTART:20160908T000000
DTEND:20160910T000000
END:VEVENT
BEGIN:VEVENT
UID:uid20151031_01@accvic.com.au
LOCATION:454 Point Cook Rd\, Point Cook\, Victoria\, Australia
URL;VALUE=URI:https://accvic.com.au/events/grow-intensive-2015
DTSTAMP:20210223T002352
SUMMARY:Grow Intensive 2015
DTSTART:20151031T090000
DTEND:20151031T160000
END:VEVENT
BEGIN:VEVENT
UID:uid20150502_01@accvic.com.au
LOCATION:31-61 McLeans Road\, Bundoora\, VIC\, 3083\, Australia
URL;VALUE=URI:https://accvic.com.au/events/pmc-training-day-intensive-2015
DTSTAMP:20210223T002352
SUMMARY:PMC Training Day Intensive 2015
DTSTART:20150502T080000
DTEND:20150502T170000
END:VEVENT
BEGIN:VEVENT
UID:uid20150606_01@accvic.com.au
LOCATION:2263 Princes Highway\, Mulgrave\, VIC\, 3170\, Australia
URL;VALUE=URI:https://accvic.com.au/events/additional-city-safe-churches-training-day-courses-2015
DTSTAMP:20210223T002352
SUMMARY:Additional City Safe Churches Training Day Courses 2015
DTSTART:20150606T080000
DTEND:20150606T150000
END:VEVENT
BEGIN:VEVENT
UID:uid20150921_01@accvic.com.au
LOCATION:400 City Road\, Southbank\, Victoria\, Australia
URL;VALUE=URI:https://accvic.com.au/events/world-state-conference-2015
DTSTAMP:20210223T002352
SUMMARY:“All the World” State Conference 2015
DTSTART:20150921T180000
DTEND:20150923T180000
END:VEVENT
BEGIN:VEVENT
UID:uid20150509_01@accvic.com.au
LOCATION:155 Verney Road\, Shepparton\, VIC\, 3630\, Australia
URL;VALUE=URI:https://accvic.com.au/events/safe-churches-training-day
DTSTAMP:20210223T002352
SUMMARY:Regional Safe Churches Training Day
DTSTART:20150509T090000
DTEND:20150509T160000
END:VEVENT
BEGIN:VEVENT
UID:uid20140915_01@accvic.com.au
LOCATION:
URL;VALUE=URI:https://accvic.com.au/events/acc-state-conference-report-2014
DTSTAMP:20210223T002352
SUMMARY:ACC STATE CONFERENCE REPORT 2014
DTSTART:20140915T120000
DTEND:20140925T090000
END:VEVENT
BEGIN:VEVENT
UID:uid20141101_01@accvic.com.au
LOCATION:Platform 28\, Village Street\, Docklands\, Victoria\, Australia
URL;VALUE=URI:https://accvic.com.au/events/young-leaders-bootcamp
DTSTAMP:20210223T002352
SUMMARY:Young Leaders Bootcamp
DTSTART:20141101T090000
DTEND:20141101T160000
END:VEVENT
BEGIN:VEVENT
UID:uid20141122_01@accvic.com.au
LOCATION:454 Point Cook Rd\, Point Cook\, Victoria\, Australia
URL;VALUE=URI:https://accvic.com.au/events/growth-camp-2014
DTSTAMP:20210223T002352
SUMMARY:Growth Training 2014
DTSTART:20141122T090000
DTEND:20141122T160000
END:VEVENT
BEGIN:VEVENT
UID:uid20140523_01@accvic.com.au
LOCATION:Enjoy Church (West Campus)\, Lance Road\, Sunshine North\, Victoria\, Australia
URL;VALUE=URI:https://accvic.com.au/events/adore-womens-conference
DTSTAMP:20210223T002352
SUMMARY:Adore Women’s Conference
DTSTART:20140523T193000
DTEND:20140524T140000
END:VEVENT
BEGIN:VEVENT
UID:uid20140922_01@accvic.com.au
LOCATION:Geelong Performing Arts Centre (GPAC) 50 Little Malop Street Geelong\, Vic. 3220
URL;VALUE=URI:https://accvic.com.au/events/state-conference
DTSTAMP:20210223T002352
SUMMARY:State Conference – OUTPOURING
DTSTART:20140922T193000
DTEND:20140924T190000
END:VEVENT
BEGIN:VEVENT
UID:uid20140412_01@accvic.com.au
LOCATION:Northside Christian Church\, 31-61 McLeans Road\, Bundoora\, Victoria\, 3083\, Australia
URL;VALUE=URI:https://accvic.com.au/events/pmc-training-day-2014
DTSTAMP:20210223T002352
SUMMARY:PMC Training Day 2014
DTSTART:20140412T090000
DTEND:20140412T040000
END:VEVENT
BEGIN:VEVENT
UID:uid20140501_01@accvic.com.au
LOCATION:
URL;VALUE=URI:https://accvic.com.au/events/dollar-day-month-may
DTSTAMP:20210223T002352
SUMMARY:Dollar a Day in the Month of May
DTSTART:20140501T000000
DTEND:20140531T000000
END:VEVENT
BEGIN:VEVENT
UID:uid20140801_01@accvic.com.au
LOCATION:41 Lance Rd\, Sunshine North\, Victoria\, Australia
URL;VALUE=URI:https://accvic.com.au/events/state-mens-conference
DTSTAMP:20210223T002352
SUMMARY:Covenant State Men’s Conference
DTSTART:20140801T193000
DTEND:20140802T150000
END:VEVENT
BEGIN:VEVENT
UID:uid20140503_01@accvic.com.au
LOCATION:Connect Church  21-35 Solomon Street\, East Bendigo\, Victoria 3550
URL;VALUE=URI:https://accvic.com.au/events/excellence-church-managment-seminar-country
DTSTAMP:20210223T002352
SUMMARY:Excellence in Church Managment Seminar – Country
DTSTART:20140503T030000
DTEND:20140503T000000
END:VEVENT
BEGIN:VEVENT
UID:uid20140405_01@accvic.com.au
LOCATION:Enjoy Church (East Campus)\, 2263 Princes Highway\, Mulgrave\, Victoria\, Australia
URL;VALUE=URI:https://accvic.com.au/events/excellence-church-management-seminar-city
DTSTAMP:20210223T002352
SUMMARY:Excellence in Church Management Seminar – City
DTSTART:20140405T090000
DTEND:20140405T140000
END:VEVENT
END:VCALENDAR